BEGIN:VCALENDAR
VERSION:2.0
PRODID:-//CPTS//Event//FR
CALSCALE:GREGORIAN
METHOD:PUBLISH
BEGIN:VEVENT
UID:44@cpts-sevreetloire.fr
DTSTAMP:20260424T132635Z
DTSTART;TZID=Europe/Paris:20260530T103000
DTEND;TZID=Europe/Paris:20260530T120000
SUMMARY:Marche de la CPTS Sèvre et Loire
DESCRIPTION:Nous vous attendons nombreux\\, autour d'une marche de 5km dans le parc du Loiry à Vertou suivi d'un pique-nique pour permettre les échanges\\, le partage et la convivialité.
LOCATION:Parc du Loiry
URL:https://cpts-sevreetloire.fr/evenement/44
END:VEVENT
END:VCALENDAR